BEGIN:VCALENDAR
VERSION:2.0
PRODID:-//British Fleming School - ECPv6.15.20//NONSGML v1.0//EN
CALSCALE:GREGORIAN
METHOD:PUBLISH
X-WR-CALNAME:British Fleming School
X-ORIGINAL-URL:https://britishflemingschool.es
X-WR-CALDESC:Events for British Fleming School
REFRESH-INTERVAL;VALUE=DURATION:PT1H
X-Robots-Tag:noindex
X-PUBLISHED-TTL:PT1H
BEGIN:VTIMEZONE
TZID:UTC
BEGIN:STANDARD
TZOFFSETFROM:+0000
TZOFFSETTO:+0000
TZNAME:UTC
DTSTART:20240101T000000
END:STANDARD
END:VTIMEZONE
BEGIN:VEVENT
DTSTART;TZID=UTC:20250415T080000
DTEND;TZID=UTC:20250415T170000
DTSTAMP:20260421T192218
CREATED:20250411T095615Z
LAST-MODIFIED:20250411T100536Z
UID:1174-1744704000-1744736400@britishflemingschool.es
SUMMARY:Empieza a hablar inglés - Clase de orientación en el campus
DESCRIPTION:Empieza a hablar inglés - Clase de orientación en el campus				\n				\n							\n							\n										Evento\n									\n								\n											\n													\n										Empieza a hablar inglés - Clase de orientación en el campus\n									\n						\n						\n					\n		\n					\n		\n				\n						\n					\n			\n						\n				\n					\n	« All Events\n 				\n				\n				\n				\n					This event has passed. \n				\n				\n				\n				\n					\n	Empieza a hablar inglés – Clase de orientación en el campus				\n				\n				\n				\n					\n		\n			April 15\n\n	\n\n	 @ \n\n\n8:00 am\n\n		\n\n\n\n	\n	 - \n\n5:00 pm\n\n\n\n	\n				\n				\n				\n				\n					\n	\n				\n				\n				\n						\n					\n			\n						\n				\n					\n	\n	Website:	\n	https://britishflemingschool.es/\n\n				\n				\n					\n		\n				\n			\n						\n				\n					\n	\n	British Fleming School\n	\n	\n\n	Phone:\n					\n			(+34) 93 747 46 89			\n	 \n\n\n	\n\n	Website:View Organizer Website \n\n\n	\n	Email:\n					\n			info@britishflemingschool.es			\n	 \n\n\n\n				\n				\n					\n		\n					\n		\n				\n						\n					\n			\n						\n				\n					\n				\n				\n	\n	British Fleming School\n	\n	\n\nC/ Roger 17-19 08028 Barcelona\n	\n		\n		Barcelona\,\n\n\n\n	Spain\n\n\n\n\n	+ Google Map \n\n\n	\n					\n			(+34) 93 747 46 89			\n	 \n\n\n	\n	View Venue Website \n\n\n\n	\n\n\n\n		\n	\n				\n				\n					\n		\n					\n		\n				\n						\n					\n			\n						\n				\n					\n	\n		\n\n	\n	Add to calendar	\n		\n	\n\n		\n			\n									\n	Google Calendar\n\n									\n	iCalendar\n\n									\n	Outlook 365\n\n									\n	Outlook Live
URL:https://britishflemingschool.es/event/empieza-a-hablar-ingles-clase-de-orientacion-en-el-campus/
LOCATION:British Fleming School\, C/ Roger 17-19 08028 Barcelona\, Barcelona\, Spain
ATTACH;FMTTYPE=image/jpeg:https://britishflemingschool.es/wp-content/uploads/2025/04/pexels-ivan-samkov-5676741-scaled.jpg
ORGANIZER;CN="British Fleming School":MAILTO:info@britishflemingschool.es
END:VEVENT
END:VCALENDAR